BEGIN:VCALENDAR
VERSION:2.0
CREATED:20260407T140104Z
PRODID:-//Dynex Capital\, Inc./Equisolve Calendar v1.0//EN
METHOD:PUBLISH
BEGIN:VEVENT
UID:1cf76f78f8b231881443abd0b5b84e0e
DTSTAMP:20260420T193100Z
DTSTART:20260521T140000Z
DTEND:20260521T150000Z
SUMMARY:Annual Meeting of Shareholders
DESCRIPTION:Annual Meeting of Shareholders\nDate: May 21\, 2026 10:00 am EDT\nWebcast: https://apps.computershare.com/MeetingsShareholderWeb/Home?Code=M6WRS9U&Invitation=&Locale=en
END:VEVENT
END:VCALENDAR
